BEGIN:VCALENDAR
VERSION:2.0
PRODID:-//The Children’s Center - ECPv6.15.20//NONSGML v1.0//EN
CALSCALE:GREGORIAN
METHOD:PUBLISH
X-ORIGINAL-URL:https://www.thechildrenscenter.com
X-WR-CALDESC:Events for The Children’s Center
REFRESH-INTERVAL;VALUE=DURATION:PT1H
X-Robots-Tag:noindex
X-PUBLISHED-TTL:PT1H
BEGIN:VTIMEZONE
TZID:UTC
BEGIN:STANDARD
TZOFFSETFROM:+0000
TZOFFSETTO:+0000
TZNAME:UTC
DTSTART:20250101T000000
END:STANDARD
END:VTIMEZONE
BEGIN:VTIMEZONE
TZID:America/New_York
BEGIN:DAYLIGHT
TZOFFSETFROM:-0500
TZOFFSETTO:-0400
TZNAME:EDT
DTSTART:20250309T070000
END:DAYLIGHT
BEGIN:STANDARD
TZOFFSETFROM:-0400
TZOFFSETTO:-0500
TZNAME:EST
DTSTART:20251102T060000
END:STANDARD
BEGIN:DAYLIGHT
TZOFFSETFROM:-0500
TZOFFSETTO:-0400
TZNAME:EDT
DTSTART:20260308T070000
END:DAYLIGHT
BEGIN:STANDARD
TZOFFSETFROM:-0400
TZOFFSETTO:-0500
TZNAME:EST
DTSTART:20261101T060000
END:STANDARD
BEGIN:DAYLIGHT
TZOFFSETFROM:-0500
TZOFFSETTO:-0400
TZNAME:EDT
DTSTART:20270314T070000
END:DAYLIGHT
BEGIN:STANDARD
TZOFFSETFROM:-0400
TZOFFSETTO:-0500
TZNAME:EST
DTSTART:20271107T060000
END:STANDARD
END:VTIMEZONE
BEGIN:VEVENT
DTSTART;TZID=UTC:20260428T163000
DTEND;TZID=UTC:20260428T180000
DTSTAMP:20260422T090428
CREATED:20260227T144127Z
LAST-MODIFIED:20260401T202013Z
UID:10000032-1777393800-1777399200@www.thechildrenscenter.com
SUMMARY:Junior Coding Club
DESCRIPTION:Youth ages 8 to 11 are invited to explore computers and the fundamentals of programming. Using simple\, visual programming languages and beginner-friendly tools\, these programs make coding accessible and fun. The goal is to nurture creativity\, problem-solving\, and technical skills while preparing young learners for a technology-driven future. Junior coding sessions include hands-on projects\, interactive lessons\, and mentorship to keep students engaged while building confidence in their abilities. \nPre-Registration Required  \nText: 877-805-0945 \nJr Coding | Caregiver’s Name | Number of Children Attending
URL:https://www.thechildrenscenter.com/event/junior-coding-club/2026-04-28/
LOCATION:The Children’s Center | Building 90\, 79 W. Alexandrine\, Detroit\, MI\, 48201\, United States
CATEGORIES:Event,Junior Coding Club,Tau Beta Family Success Center,Volunteer Opportunity
ATTACH;FMTTYPE=image/webp:https://www.thechildrenscenter.com/wp-content/uploads/2026/02/JrCoding_Photo-scaled.webp
END:VEVENT
BEGIN:VEVENT
DTSTART;TZID=UTC:20260430T164500
DTEND;TZID=UTC:20260430T184500
DTSTAMP:20260422T090428
CREATED:20260227T144512Z
LAST-MODIFIED:20260326T161956Z
UID:10000010-1777567500-1777574700@www.thechildrenscenter.com
SUMMARY:Readers and Creators
DESCRIPTION:Enjoy stories from guest readers\, read aloud together\, and take part in hands-on activities that celebrate diversity\, self-esteem\, inclusion\, pop culture\, and creativity—all while having fun and building a love for reading. \nTheme: “Just us Girls” – special event for girls and female caregivers \nOpen to the Public! Space is limited; be sure to register! \nPre-Registration Required – Text: 877-805-0945
URL:https://www.thechildrenscenter.com/event/readers-and-creators/
LOCATION:The Children’s Center | Building 90\, 79 W. Alexandrine\, Detroit\, MI\, 48201\, United States
CATEGORIES:Event,Readers and Creators,Tau Beta Family Success Center,Volunteer Opportunity
ATTACH;FMTTYPE=image/webp:https://www.thechildrenscenter.com/wp-content/uploads/2026/02/20250925_213403653_iOS-scaled.webp
END:VEVENT
BEGIN:VEVENT
DTSTART;TZID=UTC:20260504T170000
DTEND;TZID=UTC:20260504T190000
DTSTAMP:20260422T090428
CREATED:20260227T143506Z
LAST-MODIFIED:20260326T160114Z
UID:10000014-1777914000-1777921200@www.thechildrenscenter.com
SUMMARY:Dream Builders
DESCRIPTION:Join us for Dream Builders\, a program for young men ages 10–15. Together\, we craft future learners one goal at a time—building dreams\, unlocking strengths\, and empowering young minds to imagine\, create\, and lead with confidence. \nOpen to the public! \n 
URL:https://www.thechildrenscenter.com/event/dream-builders/2026-05-04/
LOCATION:The Children’s Center | Building 90\, 79 W. Alexandrine\, Detroit\, MI\, 48201\, United States
CATEGORIES:Dream Builders,Event,Tau Beta Family Success Center
ATTACH;FMTTYPE=image/webp:https://www.thechildrenscenter.com/wp-content/uploads/2026/02/DreamBuilders_EventPhoto.webp
END:VEVENT
BEGIN:VEVENT
DTSTART;TZID=UTC:20260506T163000
DTEND;TZID=UTC:20260506T183000
DTSTAMP:20260422T090428
CREATED:20260227T145309Z
LAST-MODIFIED:20260326T162434Z
UID:10000013-1778085000-1778092200@www.thechildrenscenter.com
SUMMARY:Open Hub
DESCRIPTION:A warm\, welcoming space for parents to share stories\, support one another\, and build connections. Through guided conversations and fun activities\, you’ll explore resilience\, relationships\, and self-care—leaving inspired and connected. \nText: 877-805-0945 to Register
URL:https://www.thechildrenscenter.com/event/open-hub/2026-05-06/
LOCATION:The Children’s Center | Building 90\, 79 W. Alexandrine\, Detroit\, MI\, 48201\, United States
CATEGORIES:Event,Open Hub,Tau Beta Family Success Center,Volunteer Opportunity
ATTACH;FMTTYPE=image/webp:https://www.thechildrenscenter.com/wp-content/uploads/2026/02/Kids_FSC_Photo3-scaled.webp
END:VEVENT
BEGIN:VEVENT
DTSTART;TZID=UTC:20260512T163000
DTEND;TZID=UTC:20260512T180000
DTSTAMP:20260422T090428
CREATED:20260227T144127Z
LAST-MODIFIED:20260401T202013Z
UID:10000021-1778603400-1778608800@www.thechildrenscenter.com
SUMMARY:Junior Coding Club
DESCRIPTION:Youth ages 8 to 11 are invited to explore computers and the fundamentals of programming. Using simple\, visual programming languages and beginner-friendly tools\, these programs make coding accessible and fun. The goal is to nurture creativity\, problem-solving\, and technical skills while preparing young learners for a technology-driven future. Junior coding sessions include hands-on projects\, interactive lessons\, and mentorship to keep students engaged while building confidence in their abilities. \nPre-Registration Required  \nText: 877-805-0945 \nJr Coding | Caregiver’s Name | Number of Children Attending
URL:https://www.thechildrenscenter.com/event/junior-coding-club/2026-05-12/
LOCATION:The Children’s Center | Building 90\, 79 W. Alexandrine\, Detroit\, MI\, 48201\, United States
CATEGORIES:Event,Junior Coding Club,Tau Beta Family Success Center,Volunteer Opportunity
ATTACH;FMTTYPE=image/webp:https://www.thechildrenscenter.com/wp-content/uploads/2026/02/JrCoding_Photo-scaled.webp
END:VEVENT
BEGIN:VEVENT
DTSTART;TZID=America/New_York:20260512T173000
DTEND;TZID=America/New_York:20260512T190000
DTSTAMP:20260422T090428
CREATED:20260326T162923Z
LAST-MODIFIED:20260401T202221Z
UID:10000028-1778607000-1778612400@www.thechildrenscenter.com
SUMMARY:Youth Advisory Council
DESCRIPTION:If you’re between the ages of 14 and 21 and looking for a chance to connect with others\, help plan fun Young Adult events\, build professional skills\, and learn how youth are impacted by community issues—this group is for you!
URL:https://www.thechildrenscenter.com/event/youth-advisory-council/2026-05-12/
LOCATION:The Children’s Center | Building 90\, 79 W. Alexandrine\, Detroit\, MI\, 48201\, United States
CATEGORIES:Event,Tau Beta Family Success Center,Youth Advisory Council
END:VEVENT
BEGIN:VEVENT
DTSTART;TZID=UTC:20260518T170000
DTEND;TZID=UTC:20260518T190000
DTSTAMP:20260422T090428
CREATED:20260227T143506Z
LAST-MODIFIED:20260326T160114Z
UID:10000015-1779123600-1779130800@www.thechildrenscenter.com
SUMMARY:Dream Builders
DESCRIPTION:Join us for Dream Builders\, a program for young men ages 10–15. Together\, we craft future learners one goal at a time—building dreams\, unlocking strengths\, and empowering young minds to imagine\, create\, and lead with confidence. \nOpen to the public! \n 
URL:https://www.thechildrenscenter.com/event/dream-builders/2026-05-18/
LOCATION:The Children’s Center | Building 90\, 79 W. Alexandrine\, Detroit\, MI\, 48201\, United States
CATEGORIES:Dream Builders,Event,Tau Beta Family Success Center
ATTACH;FMTTYPE=image/webp:https://www.thechildrenscenter.com/wp-content/uploads/2026/02/DreamBuilders_EventPhoto.webp
END:VEVENT
BEGIN:VEVENT
DTSTART;TZID=UTC:20260518T173000
DTEND;TZID=UTC:20260518T190000
DTSTAMP:20260422T090428
CREATED:20260227T145158Z
LAST-MODIFIED:20260326T160939Z
UID:10000019-1779125400-1779130800@www.thechildrenscenter.com
SUMMARY:Parent Café
DESCRIPTION:A warm\, welcoming space for parents to share stories\, support one another\, and build connections. Through guided conversations and fun activities\, you’ll explore resilience\, relationships\, and self-care—leaving inspired and connected. \nText: 877-805-0945 to RSVP
URL:https://www.thechildrenscenter.com/event/parent-cafe-2/2026-05-18/
LOCATION:The Children’s Center | Building 90\, 79 W. Alexandrine\, Detroit\, MI\, 48201\, United States
CATEGORIES:Event,Parent Cafe,Tau Beta Family Success Center
ATTACH;FMTTYPE=image/webp:https://www.thechildrenscenter.com/wp-content/uploads/2026/02/CAC_Banner-scaled.webp
END:VEVENT
BEGIN:VEVENT
DTSTART;TZID=UTC:20260526T163000
DTEND;TZID=UTC:20260526T180000
DTSTAMP:20260422T090428
CREATED:20260227T144127Z
LAST-MODIFIED:20260401T202013Z
UID:10000022-1779813000-1779818400@www.thechildrenscenter.com
SUMMARY:Junior Coding Club
DESCRIPTION:Youth ages 8 to 11 are invited to explore computers and the fundamentals of programming. Using simple\, visual programming languages and beginner-friendly tools\, these programs make coding accessible and fun. The goal is to nurture creativity\, problem-solving\, and technical skills while preparing young learners for a technology-driven future. Junior coding sessions include hands-on projects\, interactive lessons\, and mentorship to keep students engaged while building confidence in their abilities. \nPre-Registration Required  \nText: 877-805-0945 \nJr Coding | Caregiver’s Name | Number of Children Attending
URL:https://www.thechildrenscenter.com/event/junior-coding-club/2026-05-26/
LOCATION:The Children’s Center | Building 90\, 79 W. Alexandrine\, Detroit\, MI\, 48201\, United States
CATEGORIES:Event,Junior Coding Club,Tau Beta Family Success Center,Volunteer Opportunity
ATTACH;FMTTYPE=image/webp:https://www.thechildrenscenter.com/wp-content/uploads/2026/02/JrCoding_Photo-scaled.webp
END:VEVENT
BEGIN:VEVENT
DTSTART;TZID=UTC:20260601T170000
DTEND;TZID=UTC:20260601T190000
DTSTAMP:20260422T090428
CREATED:20260227T143506Z
LAST-MODIFIED:20260326T160114Z
UID:10000016-1780333200-1780340400@www.thechildrenscenter.com
SUMMARY:Dream Builders
DESCRIPTION:Join us for Dream Builders\, a program for young men ages 10–15. Together\, we craft future learners one goal at a time—building dreams\, unlocking strengths\, and empowering young minds to imagine\, create\, and lead with confidence. \nOpen to the public! \n 
URL:https://www.thechildrenscenter.com/event/dream-builders/2026-06-01/
LOCATION:The Children’s Center | Building 90\, 79 W. Alexandrine\, Detroit\, MI\, 48201\, United States
CATEGORIES:Dream Builders,Event,Tau Beta Family Success Center
ATTACH;FMTTYPE=image/webp:https://www.thechildrenscenter.com/wp-content/uploads/2026/02/DreamBuilders_EventPhoto.webp
END:VEVENT
BEGIN:VEVENT
DTSTART;TZID=UTC:20260603T163000
DTEND;TZID=UTC:20260603T183000
DTSTAMP:20260422T090428
CREATED:20260227T145309Z
LAST-MODIFIED:20260326T162434Z
UID:10000027-1780504200-1780511400@www.thechildrenscenter.com
SUMMARY:Open Hub
DESCRIPTION:A warm\, welcoming space for parents to share stories\, support one another\, and build connections. Through guided conversations and fun activities\, you’ll explore resilience\, relationships\, and self-care—leaving inspired and connected. \nText: 877-805-0945 to Register
URL:https://www.thechildrenscenter.com/event/open-hub/2026-06-03/
LOCATION:The Children’s Center | Building 90\, 79 W. Alexandrine\, Detroit\, MI\, 48201\, United States
CATEGORIES:Event,Open Hub,Tau Beta Family Success Center,Volunteer Opportunity
ATTACH;FMTTYPE=image/webp:https://www.thechildrenscenter.com/wp-content/uploads/2026/02/Kids_FSC_Photo3-scaled.webp
END:VEVENT
BEGIN:VEVENT
DTSTART;TZID=UTC:20260609T163000
DTEND;TZID=UTC:20260609T180000
DTSTAMP:20260422T090428
CREATED:20260227T144127Z
LAST-MODIFIED:20260401T202013Z
UID:10000023-1781022600-1781028000@www.thechildrenscenter.com
SUMMARY:Junior Coding Club
DESCRIPTION:Youth ages 8 to 11 are invited to explore computers and the fundamentals of programming. Using simple\, visual programming languages and beginner-friendly tools\, these programs make coding accessible and fun. The goal is to nurture creativity\, problem-solving\, and technical skills while preparing young learners for a technology-driven future. Junior coding sessions include hands-on projects\, interactive lessons\, and mentorship to keep students engaged while building confidence in their abilities. \nPre-Registration Required  \nText: 877-805-0945 \nJr Coding | Caregiver’s Name | Number of Children Attending
URL:https://www.thechildrenscenter.com/event/junior-coding-club/2026-06-09/
LOCATION:The Children’s Center | Building 90\, 79 W. Alexandrine\, Detroit\, MI\, 48201\, United States
CATEGORIES:Event,Junior Coding Club,Tau Beta Family Success Center,Volunteer Opportunity
ATTACH;FMTTYPE=image/webp:https://www.thechildrenscenter.com/wp-content/uploads/2026/02/JrCoding_Photo-scaled.webp
END:VEVENT
BEGIN:VEVENT
DTSTART;TZID=America/New_York:20260609T173000
DTEND;TZID=America/New_York:20260609T190000
DTSTAMP:20260422T090428
CREATED:20260326T162923Z
LAST-MODIFIED:20260401T202221Z
UID:10000029-1781026200-1781031600@www.thechildrenscenter.com
SUMMARY:Youth Advisory Council
DESCRIPTION:If you’re between the ages of 14 and 21 and looking for a chance to connect with others\, help plan fun Young Adult events\, build professional skills\, and learn how youth are impacted by community issues—this group is for you!
URL:https://www.thechildrenscenter.com/event/youth-advisory-council/2026-06-09/
LOCATION:The Children’s Center | Building 90\, 79 W. Alexandrine\, Detroit\, MI\, 48201\, United States
CATEGORIES:Event,Tau Beta Family Success Center,Youth Advisory Council
END:VEVENT
BEGIN:VEVENT
DTSTART;TZID=UTC:20260615T170000
DTEND;TZID=UTC:20260615T190000
DTSTAMP:20260422T090428
CREATED:20260227T143506Z
LAST-MODIFIED:20260326T160114Z
UID:10000017-1781542800-1781550000@www.thechildrenscenter.com
SUMMARY:Dream Builders
DESCRIPTION:Join us for Dream Builders\, a program for young men ages 10–15. Together\, we craft future learners one goal at a time—building dreams\, unlocking strengths\, and empowering young minds to imagine\, create\, and lead with confidence. \nOpen to the public! \n 
URL:https://www.thechildrenscenter.com/event/dream-builders/2026-06-15/
LOCATION:The Children’s Center | Building 90\, 79 W. Alexandrine\, Detroit\, MI\, 48201\, United States
CATEGORIES:Dream Builders,Event,Tau Beta Family Success Center
ATTACH;FMTTYPE=image/webp:https://www.thechildrenscenter.com/wp-content/uploads/2026/02/DreamBuilders_EventPhoto.webp
END:VEVENT
BEGIN:VEVENT
DTSTART;TZID=UTC:20260615T173000
DTEND;TZID=UTC:20260615T190000
DTSTAMP:20260422T090428
CREATED:20260227T145158Z
LAST-MODIFIED:20260326T160939Z
UID:10000020-1781544600-1781550000@www.thechildrenscenter.com
SUMMARY:Parent Café
DESCRIPTION:A warm\, welcoming space for parents to share stories\, support one another\, and build connections. Through guided conversations and fun activities\, you’ll explore resilience\, relationships\, and self-care—leaving inspired and connected. \nText: 877-805-0945 to RSVP
URL:https://www.thechildrenscenter.com/event/parent-cafe-2/2026-06-15/
LOCATION:The Children’s Center | Building 90\, 79 W. Alexandrine\, Detroit\, MI\, 48201\, United States
CATEGORIES:Event,Parent Cafe,Tau Beta Family Success Center
ATTACH;FMTTYPE=image/webp:https://www.thechildrenscenter.com/wp-content/uploads/2026/02/CAC_Banner-scaled.webp
END:VEVENT
BEGIN:VEVENT
DTSTART;TZID=UTC:20260623T163000
DTEND;TZID=UTC:20260623T180000
DTSTAMP:20260422T090428
CREATED:20260227T144127Z
LAST-MODIFIED:20260401T202013Z
UID:10000024-1782232200-1782237600@www.thechildrenscenter.com
SUMMARY:Junior Coding Club
DESCRIPTION:Youth ages 8 to 11 are invited to explore computers and the fundamentals of programming. Using simple\, visual programming languages and beginner-friendly tools\, these programs make coding accessible and fun. The goal is to nurture creativity\, problem-solving\, and technical skills while preparing young learners for a technology-driven future. Junior coding sessions include hands-on projects\, interactive lessons\, and mentorship to keep students engaged while building confidence in their abilities. \nPre-Registration Required  \nText: 877-805-0945 \nJr Coding | Caregiver’s Name | Number of Children Attending
URL:https://www.thechildrenscenter.com/event/junior-coding-club/2026-06-23/
LOCATION:The Children’s Center | Building 90\, 79 W. Alexandrine\, Detroit\, MI\, 48201\, United States
CATEGORIES:Event,Junior Coding Club,Tau Beta Family Success Center,Volunteer Opportunity
ATTACH;FMTTYPE=image/webp:https://www.thechildrenscenter.com/wp-content/uploads/2026/02/JrCoding_Photo-scaled.webp
END:VEVENT
END:VCALENDAR